Package: syntenet Version: 1.8.1 Command: /home/biocbuild/bbs-3.20-bioc/R/bin/R CMD INSTALL syntenet StartedAt: 2025-01-27 16:32:10 -0500 (Mon, 27 Jan 2025) EndedAt: 2025-01-27 16:33:21 -0500 (Mon, 27 Jan 2025) EllapsedTime: 71.5 seconds RetCode: 0 Status: OK