Package: syntenet Version: 1.8.1 Command: /home/biocbuild/bbs-3.20-bioc/R/bin/R CMD check --install=check:syntenet.install-out.txt --library=/home/biocbuild/bbs-3.20-bioc/R/site-library --timings syntenet_1.8.1.tar.gz StartedAt: 2025-01-28 03:48:21 -0500 (Tue, 28 Jan 2025) EndedAt: 2025-01-28 03:53:08 -0500 (Tue, 28 Jan 2025) EllapsedTime: 286.4 seconds RetCode: 0 Status: OK CheckDir: syntenet.Rcheck Warnings: 0