Package: synlet Version: 2.6.0 Command: /home/biocbuild/R/R/bin/R CMD build --keep-empty-dirs --no-resave-data synlet StartedAt: 2025-01-31 03:06:32 -0000 (Fri, 31 Jan 2025) EndedAt: 2025-01-31 03:07:12 -0000 (Fri, 31 Jan 2025) EllapsedTime: 40.0 seconds RetCode: 0 Status: OK PackageFile: synlet_2.6.0.tar.gz PackageFileSize: 827.3 KiB