Package: synapter Version: 2.30.0 Command: /home/biocbuild/bbs-3.20-bioc/R/bin/R CMD INSTALL synapter StartedAt: 2025-03-31 15:48:12 -0400 (Mon, 31 Mar 2025) EndedAt: 2025-03-31 15:49:06 -0400 (Mon, 31 Mar 2025) EllapsedTime: 53.7 seconds RetCode: 0 Status: OK