Package: synapsis Version: 1.12.0 Command: /home/biocbuild/R/R/bin/R CMD INSTALL synapsis StartedAt: 2025-01-27 21:35:03 -0000 (Mon, 27 Jan 2025) EndedAt: 2025-01-27 21:35:08 -0000 (Mon, 27 Jan 2025) EllapsedTime: 5.2 seconds RetCode: 0 Status: OK