Package: synapsis Version: 1.12.0 Command: /home/biocbuild/R/R/bin/R CMD check --install=check:synapsis.install-out.txt --library=/home/biocbuild/R/R/site-library --no-vignettes --timings synapsis_1.12.0.tar.gz StartedAt: 2024-11-20 13:05:53 -0000 (Wed, 20 Nov 2024) EndedAt: 2024-11-20 13:06:41 -0000 (Wed, 20 Nov 2024) EllapsedTime: 48.1 seconds RetCode: 0 Status: OK CheckDir: synapsis.Rcheck Warnings: 0