Package: synapsis Version: 1.12.0 Command: rm -rf synapsis.buildbin-libdir && mkdir synapsis.buildbin-libdir && /Users/biocbuild/BBS/utils/build-universal.sh synapsis_1.12.0.tar.gz /Library/Frameworks/R.framework/Resources/bin/R synapsis.buildbin-libdir StartedAt: 2025-01-29 16:50:32 -0500 (Wed, 29 Jan 2025) EndedAt: 2025-01-29 16:50:39 -0500 (Wed, 29 Jan 2025) EllapsedTime: 8.0 seconds RetCode: 0 Status: OK PackageFile: synapsis_1.12.0.tgz PackageFileSize: 3.629 MiB