Package: switchde Version: 1.32.0 Command: /home/biocbuild/R/R/bin/R CMD build --keep-empty-dirs --no-resave-data switchde StartedAt: 2025-02-04 03:25:53 -0000 (Tue, 04 Feb 2025) EndedAt: 2025-02-04 03:26:59 -0000 (Tue, 04 Feb 2025) EllapsedTime: 65.1 seconds RetCode: 0 Status: OK PackageFile: switchde_1.32.0.tar.gz PackageFileSize: 650.4 KiB