Package: switchde Version: 1.32.0 Command: F:\biocbuild\bbs-3.20-bioc\R\bin\R.exe CMD INSTALL switchde StartedAt: 2025-02-10 16:03:11 -0500 (Mon, 10 Feb 2025) EndedAt: 2025-02-10 16:03:42 -0500 (Mon, 10 Feb 2025) EllapsedTime: 31.0 seconds RetCode: 0 Status: OK