Package: switchde Version: 1.32.0 Command: /home/biocbuild/bbs-3.20-bioc/R/bin/R CMD INSTALL switchde StartedAt: 2025-02-03 15:22:05 -0500 (Mon, 03 Feb 2025) EndedAt: 2025-02-03 15:22:27 -0500 (Mon, 03 Feb 2025) EllapsedTime: 21.7 seconds RetCode: 0 Status: OK