Package: switchde Version: 1.32.0 Command: /Library/Frameworks/R.framework/Resources/bin/R CMD build --keep-empty-dirs --no-resave-data switchde StartedAt: 2025-02-03 22:48:07 -0500 (Mon, 03 Feb 2025) EndedAt: 2025-02-03 22:49:41 -0500 (Mon, 03 Feb 2025) EllapsedTime: 94.4 seconds RetCode: 0 Status: OK PackageFile: switchde_1.32.0.tar.gz PackageFileSize: 1.031 MiB