Package: switchde Version: 1.32.0 Command: rm -rf switchde.buildbin-libdir && mkdir switchde.buildbin-libdir && /Users/biocbuild/BBS/utils/build-universal.sh switchde_1.32.0.tar.gz /Library/Frameworks/R.framework/Resources/bin/R switchde.buildbin-libdir StartedAt: 2025-02-11 14:40:56 -0500 (Tue, 11 Feb 2025) EndedAt: 2025-02-11 14:42:00 -0500 (Tue, 11 Feb 2025) EllapsedTime: 63.7 seconds RetCode: 0 Status: OK PackageFile: switchde_1.32.0.tgz PackageFileSize: 1.071 MiB