Package: switchde Version: 1.32.0 Command: /Library/Frameworks/R.framework/Resources/bin/R CMD check --install=check:switchde.install-out.txt --library=/Library/Frameworks/R.framework/Resources/library --no-vignettes --timings switchde_1.32.0.tar.gz StartedAt: 2025-02-05 12:21:04 -0500 (Wed, 05 Feb 2025) EndedAt: 2025-02-05 12:24:24 -0500 (Wed, 05 Feb 2025) EllapsedTime: 200.0 seconds RetCode: 0 Status: OK CheckDir: switchde.Rcheck Warnings: 0