Package: switchBox Version: 1.42.0 Command: /home/biocbuild/bbs-3.20-bioc/R/bin/R CMD build --keep-empty-dirs --no-resave-data --md5 switchBox StartedAt: 2025-01-27 20:20:09 -0500 (Mon, 27 Jan 2025) EndedAt: 2025-01-27 20:20:19 -0500 (Mon, 27 Jan 2025) EllapsedTime: 10.0 seconds RetCode: 0 Status: OK PackageFile: switchBox_1.42.0.tar.gz PackageFileSize: 473.8 KiB