Package: swfdr Version: 1.32.0 Command: /home/biocbuild/R/R/bin/R CMD INSTALL swfdr StartedAt: 2025-02-10 20:11:11 -0000 (Mon, 10 Feb 2025) EndedAt: 2025-02-10 20:11:41 -0000 (Mon, 10 Feb 2025) EllapsedTime: 29.9 seconds RetCode: 0 Status: OK