Package: swfdr Version: 1.32.0 Command: /home/biocbuild/R/R/bin/R CMD build --keep-empty-dirs --no-resave-data swfdr StartedAt: 2025-02-04 03:25:32 -0000 (Tue, 04 Feb 2025) EndedAt: 2025-02-04 03:26:55 -0000 (Tue, 04 Feb 2025) EllapsedTime: 82.1 seconds RetCode: 0 Status: OK PackageFile: swfdr_1.32.0.tar.gz PackageFileSize: 1.187 MiB