Package: swfdr Version: 1.32.0 Command: /Library/Frameworks/R.framework/Resources/bin/R CMD INSTALL swfdr StartedAt: 2025-03-31 15:09:06 -0400 (Mon, 31 Mar 2025) EndedAt: 2025-03-31 15:09:10 -0400 (Mon, 31 Mar 2025) EllapsedTime: 4.0 seconds RetCode: 0 Status: OK