Package: svaRetro Version: 1.12.0 Command: /home/biocbuild/R/R/bin/R CMD build --keep-empty-dirs --no-resave-data svaRetro StartedAt: 2025-02-04 03:24:35 -0000 (Tue, 04 Feb 2025) EndedAt: 2025-02-04 03:26:51 -0000 (Tue, 04 Feb 2025) EllapsedTime: 135.3 seconds RetCode: 0 Status: OK PackageFile: svaRetro_1.12.0.tar.gz PackageFileSize: 1.552 MiB