Package: sva Version: 3.54.0 Command: /Library/Frameworks/R.framework/Resources/bin/R CMD INSTALL sva StartedAt: 2025-03-31 17:12:49 -0400 (Mon, 31 Mar 2025) EndedAt: 2025-03-31 17:13:12 -0400 (Mon, 31 Mar 2025) EllapsedTime: 23.4 seconds RetCode: 0 Status: OK