Package: survcomp Version: 1.56.0 Command: /home/biocbuild/R/R/bin/R CMD INSTALL survcomp StartedAt: 2025-01-30 21:07:01 -0000 (Thu, 30 Jan 2025) EndedAt: 2025-01-30 21:07:16 -0000 (Thu, 30 Jan 2025) EllapsedTime: 14.4 seconds RetCode: 0 Status: OK