Package: survcomp Version: 1.56.0 Command: /home/biocbuild/bbs-3.20-bioc/R/bin/R CMD INSTALL survcomp StartedAt: 2025-03-31 16:00:42 -0400 (Mon, 31 Mar 2025) EndedAt: 2025-03-31 16:00:53 -0400 (Mon, 31 Mar 2025) EllapsedTime: 10.3 seconds RetCode: 0 Status: OK