Package: survcomp Version: 1.56.0 Command: /Library/Frameworks/R.framework/Resources/bin/R CMD INSTALL survcomp StartedAt: 2025-03-31 16:39:44 -0400 (Mon, 31 Mar 2025) EndedAt: 2025-03-31 16:40:08 -0400 (Mon, 31 Mar 2025) EllapsedTime: 23.9 seconds RetCode: 0 Status: OK