Package: survcomp Version: 1.56.0 Command: /Library/Frameworks/R.framework/Resources/bin/R CMD check --install=check:survcomp.install-out.txt --library=/Library/Frameworks/R.framework/Resources/library --no-vignettes --timings survcomp_1.56.0.tar.gz StartedAt: 2025-04-01 10:00:01 -0400 (Tue, 01 Apr 2025) EndedAt: 2025-04-01 10:02:09 -0400 (Tue, 01 Apr 2025) EllapsedTime: 127.2 seconds RetCode: 0 Status: WARNINGS CheckDir: survcomp.Rcheck Warnings: 1