Package: survcomp Version: 1.56.0 Command: /home/biocbuild/R/R/bin/R CMD INSTALL survcomp StartedAt: 2024-11-19 21:31:37 -0000 (Tue, 19 Nov 2024) EndedAt: 2024-11-19 21:31:53 -0000 (Tue, 19 Nov 2024) EllapsedTime: 16.6 seconds RetCode: 0 Status: OK