Package: survClust Version: 1.0.0 Command: /Library/Frameworks/R.framework/Resources/bin/R CMD build --keep-empty-dirs --no-resave-data survClust StartedAt: 2025-03-31 22:27:31 -0400 (Mon, 31 Mar 2025) EndedAt: 2025-03-31 22:31:59 -0400 (Mon, 31 Mar 2025) EllapsedTime: 268.5 seconds RetCode: 0 Status: OK PackageFile: survClust_1.0.0.tar.gz PackageFileSize: 720.5 KiB