Package: survClust Version: 1.0.0 Command: rm -rf survClust.buildbin-libdir && mkdir survClust.buildbin-libdir && /Users/biocbuild/BBS/utils/build-universal.sh survClust_1.0.0.tar.gz /Library/Frameworks/R.framework/Resources/bin/R survClust.buildbin-libdir StartedAt: 2025-04-01 12:52:53 -0400 (Tue, 01 Apr 2025) EndedAt: 2025-04-01 12:53:53 -0400 (Tue, 01 Apr 2025) EllapsedTime: 59.8 seconds RetCode: 0 Status: OK PackageFile: survClust_1.0.0.tgz PackageFileSize: 765.4 KiB