Package: survClust Version: 1.0.0 Command: rm -rf survClust.buildbin-libdir && mkdir survClust.buildbin-libdir && /Users/biocbuild/BBS/utils/build-universal.sh survClust_1.0.0.tar.gz /Library/Frameworks/R.framework/Resources/bin/R survClust.buildbin-libdir StartedAt: 2025-01-29 16:49:40 -0500 (Wed, 29 Jan 2025) EndedAt: 2025-01-29 16:50:15 -0500 (Wed, 29 Jan 2025) EllapsedTime: 34.6 seconds RetCode: 0 Status: OK PackageFile: survClust_1.0.0.tgz PackageFileSize: 763.7 KiB