Package: supraHex Version: 1.44.0 Command: /home/biocbuild/R/R/bin/R CMD INSTALL supraHex StartedAt: 2025-01-27 21:30:49 -0000 (Mon, 27 Jan 2025) EndedAt: 2025-01-27 21:31:00 -0000 (Mon, 27 Jan 2025) EllapsedTime: 10.8 seconds RetCode: 0 Status: OK