Package: supraHex Version: 1.44.0 Command: /Library/Frameworks/R.framework/Resources/bin/R CMD INSTALL supraHex StartedAt: 2025-01-27 15:52:00 -0500 (Mon, 27 Jan 2025) EndedAt: 2025-01-27 15:52:19 -0500 (Mon, 27 Jan 2025) EllapsedTime: 19.4 seconds RetCode: 0 Status: OK