Package: supraHex Version: 1.44.0 Command: /Library/Frameworks/R.framework/Resources/bin/R CMD build --keep-empty-dirs --no-resave-data supraHex StartedAt: 2025-04-01 08:55:04 -0400 (Tue, 01 Apr 2025) EndedAt: 2025-04-01 08:55:18 -0400 (Tue, 01 Apr 2025) EllapsedTime: 13.5 seconds RetCode: 1 Status: ERROR PackageFile: None PackageFileSize: NA