Package: subSeq Version: 1.36.0 Command: /home/biocbuild/R/R/bin/R CMD INSTALL subSeq StartedAt: 2025-03-31 20:37:13 -0000 (Mon, 31 Mar 2025) EndedAt: 2025-03-31 20:37:21 -0000 (Mon, 31 Mar 2025) EllapsedTime: 7.9 seconds RetCode: 0 Status: OK