Package: subSeq Version: 1.36.0 Command: /home/biocbuild/R/R/bin/R CMD build --keep-empty-dirs --no-resave-data subSeq StartedAt: 2025-01-28 03:41:22 -0000 (Tue, 28 Jan 2025) EndedAt: 2025-01-28 03:42:13 -0000 (Tue, 28 Jan 2025) EllapsedTime: 51.0 seconds RetCode: 0 Status: OK PackageFile: subSeq_1.36.0.tar.gz PackageFileSize: 2.909 MiB