Package: structToolbox Version: 1.18.1 Command: /home/biocbuild/R/R/bin/R CMD check --install=check:structToolbox.install-out.txt --library=/home/biocbuild/R/R/site-library --no-vignettes --timings structToolbox_1.18.1.tar.gz StartedAt: 2025-02-04 11:29:58 -0000 (Tue, 04 Feb 2025) EndedAt: 2025-02-04 11:40:05 -0000 (Tue, 04 Feb 2025) EllapsedTime: 606.8 seconds RetCode: 0 Status: OK CheckDir: structToolbox.Rcheck Warnings: 0