Package: structToolbox Version: 1.18.0 Command: /home/biocbuild/bbs-3.20-bioc/R/bin/R CMD INSTALL structToolbox StartedAt: 2025-01-27 16:04:18 -0500 (Mon, 27 Jan 2025) EndedAt: 2025-01-27 16:04:51 -0500 (Mon, 27 Jan 2025) EllapsedTime: 33.2 seconds RetCode: 0 Status: OK