Package: structToolbox Version: 1.18.0 Command: /Library/Frameworks/R.framework/Resources/bin/R CMD check --install=check:structToolbox.install-out.txt --library=/Library/Frameworks/R.framework/Resources/library --no-vignettes --timings structToolbox_1.18.0.tar.gz StartedAt: 2025-01-28 11:05:08 -0500 (Tue, 28 Jan 2025) EndedAt: 2025-01-28 11:24:29 -0500 (Tue, 28 Jan 2025) EllapsedTime: 1161.0 seconds RetCode: 0 Status: OK CheckDir: structToolbox.Rcheck Warnings: 0