Package: structToolbox Version: 1.18.2 Command: /Library/Frameworks/R.framework/Resources/bin/R CMD build --keep-empty-dirs --no-resave-data structToolbox StartedAt: 2025-03-31 22:25:05 -0400 (Mon, 31 Mar 2025) EndedAt: 2025-03-31 22:51:56 -0400 (Mon, 31 Mar 2025) EllapsedTime: 1611.3 seconds RetCode: 0 Status: OK PackageFile: structToolbox_1.18.2.tar.gz PackageFileSize: 4.905 MiB