Package: structToolbox Version: 1.18.2 Command: rm -rf structToolbox.buildbin-libdir && mkdir structToolbox.buildbin-libdir && /Users/biocbuild/BBS/utils/build-universal.sh structToolbox_1.18.2.tar.gz /Library/Frameworks/R.framework/Resources/bin/R structToolbox.buildbin-libdir StartedAt: 2025-04-01 12:52:31 -0400 (Tue, 01 Apr 2025) EndedAt: 2025-04-01 12:53:52 -0400 (Tue, 01 Apr 2025) EllapsedTime: 81.2 seconds RetCode: 0 Status: OK PackageFile: structToolbox_1.18.2.tgz PackageFileSize: 5.594 MiB