Package: struct Version: 1.18.0 Command: /home/biocbuild/R/R/bin/R CMD check --install=check:struct.install-out.txt --library=/home/biocbuild/R/R/site-library --no-vignettes --timings struct_1.18.0.tar.gz StartedAt: 2025-01-31 10:50:11 -0000 (Fri, 31 Jan 2025) EndedAt: 2025-01-31 10:53:24 -0000 (Fri, 31 Jan 2025) EllapsedTime: 193.2 seconds RetCode: 0 Status: OK CheckDir: struct.Rcheck Warnings: 0