Package: struct Version: 1.18.0 Command: /home/biocbuild/R/R/bin/R CMD build --keep-empty-dirs --no-resave-data struct StartedAt: 2025-02-04 03:21:01 -0000 (Tue, 04 Feb 2025) EndedAt: 2025-02-04 03:22:01 -0000 (Tue, 04 Feb 2025) EllapsedTime: 60.1 seconds RetCode: 0 Status: OK PackageFile: struct_1.18.0.tar.gz PackageFileSize: 635 KiB