Package: struct Version: 1.18.0 Command: F:\biocbuild\bbs-3.20-bioc\R\bin\R.exe CMD check --no-multiarch --install=check:struct.install-out.txt --library=F:\biocbuild\bbs-3.20-bioc\R\library --no-vignettes --timings struct_1.18.0.tar.gz StartedAt: 2025-01-28 06:29:46 -0500 (Tue, 28 Jan 2025) EndedAt: 2025-01-28 06:33:08 -0500 (Tue, 28 Jan 2025) EllapsedTime: 201.8 seconds RetCode: 1 Status: ERROR CheckDir: struct.Rcheck Warnings: NA