Package: struct Version: 1.18.0 Command: rm -rf struct.buildbin-libdir && mkdir struct.buildbin-libdir && F:\biocbuild\bbs-3.20-bioc\R\bin\R.exe CMD INSTALL --build --library=struct.buildbin-libdir struct_1.18.0.tar.gz StartedAt: 2025-01-28 09:16:14 -0500 (Tue, 28 Jan 2025) EndedAt: 2025-01-28 09:17:30 -0500 (Tue, 28 Jan 2025) EllapsedTime: 76.2 seconds RetCode: 0 Status: OK PackageFile: struct_1.18.0.zip PackageFileSize: 1.543 MiB