Package: struct Version: 1.18.0 Command: /Library/Frameworks/R.framework/Resources/bin/R CMD build --keep-empty-dirs --no-resave-data struct StartedAt: 2025-04-01 08:47:58 -0400 (Tue, 01 Apr 2025) EndedAt: 2025-04-01 08:48:48 -0400 (Tue, 01 Apr 2025) EllapsedTime: 49.9 seconds RetCode: 0 Status: OK PackageFile: struct_1.18.0.tar.gz PackageFileSize: 604.4 KiB