Package: strandCheckR Version: 1.24.0 Command: /home/biocbuild/bbs-3.20-bioc/R/bin/R CMD build --keep-empty-dirs --no-resave-data --md5 strandCheckR StartedAt: 2025-03-31 19:19:52 -0400 (Mon, 31 Mar 2025) EndedAt: 2025-03-31 19:20:48 -0400 (Mon, 31 Mar 2025) EllapsedTime: 56.0 seconds RetCode: 0 Status: OK PackageFile: strandCheckR_1.24.0.tar.gz PackageFileSize: 1.219 MiB