Package: strandCheckR Version: 1.24.0 Command: /Library/Frameworks/R.framework/Resources/bin/R CMD build --keep-empty-dirs --no-resave-data strandCheckR StartedAt: 2025-01-28 09:02:21 -0500 (Tue, 28 Jan 2025) EndedAt: 2025-01-28 09:03:35 -0500 (Tue, 28 Jan 2025) EllapsedTime: 74.0 seconds RetCode: 0 Status: OK PackageFile: strandCheckR_1.24.0.tar.gz PackageFileSize: 1.211 MiB