Package: strandCheckR Version: 1.24.0 Command: rm -rf strandCheckR.buildbin-libdir && mkdir strandCheckR.buildbin-libdir && /Users/biocbuild/BBS/utils/build-universal.sh strandCheckR_1.24.0.tar.gz /Library/Frameworks/R.framework/Resources/bin/R strandCheckR.buildbin-libdir StartedAt: 2025-01-29 16:48:34 -0500 (Wed, 29 Jan 2025) EndedAt: 2025-01-29 16:49:19 -0500 (Wed, 29 Jan 2025) EllapsedTime: 45.9 seconds RetCode: 0 Status: OK PackageFile: strandCheckR_1.24.0.tgz PackageFileSize: 1.294 MiB