Package: stepNorm Version: 1.78.0 Command: /Library/Frameworks/R.framework/Resources/bin/R CMD build --keep-empty-dirs --no-resave-data stepNorm StartedAt: 2025-03-31 22:24:24 -0400 (Mon, 31 Mar 2025) EndedAt: 2025-03-31 22:24:27 -0400 (Mon, 31 Mar 2025) EllapsedTime: 2.2 seconds RetCode: 0 Status: OK PackageFile: stepNorm_1.78.0.tar.gz PackageFileSize: 460.2 KiB