Package: statTarget Version: 1.36.0 Command: chmod a+r statTarget -R && F:\biocbuild\bbs-3.20-bioc\R\bin\R.exe CMD build --keep-empty-dirs --no-resave-data statTarget StartedAt: 2025-01-27 22:14:53 -0500 (Mon, 27 Jan 2025) EndedAt: 2025-01-27 22:15:15 -0500 (Mon, 27 Jan 2025) EllapsedTime: 22.7 seconds RetCode: 0 Status: OK PackageFile: statTarget_1.36.0.tar.gz PackageFileSize: 779.3 KiB