Package: standR Version: 1.10.0 Command: /home/biocbuild/R/R/bin/R CMD INSTALL standR StartedAt: 2025-01-30 20:36:18 -0000 (Thu, 30 Jan 2025) EndedAt: 2025-01-30 20:36:47 -0000 (Thu, 30 Jan 2025) EllapsedTime: 29.2 seconds RetCode: 0 Status: OK