Package: standR Version: 1.10.0 Command: F:\biocbuild\bbs-3.20-bioc\R\bin\R.exe CMD INSTALL standR StartedAt: 2025-03-31 16:28:41 -0400 (Mon, 31 Mar 2025) EndedAt: 2025-03-31 16:29:23 -0400 (Mon, 31 Mar 2025) EllapsedTime: 41.2 seconds RetCode: 0 Status: OK