Package: standR Version: 1.10.0 Command: /home/biocbuild/bbs-3.20-bioc/R/bin/R CMD check --install=check:standR.install-out.txt --library=/home/biocbuild/bbs-3.20-bioc/R/site-library --timings standR_1.10.0.tar.gz StartedAt: 2025-01-28 03:40:25 -0500 (Tue, 28 Jan 2025) EndedAt: 2025-01-28 03:45:51 -0500 (Tue, 28 Jan 2025) EllapsedTime: 326.3 seconds RetCode: 0 Status: OK CheckDir: standR.Rcheck Warnings: 0